BEGIN:VCALENDAR
VERSION:2.0
CALSCALE:GREGORIAN
METHOD:PUBLISH
PRODID://SEAT//516665
BEGIN:VEVENT
DTSTAMP:20260425T062443
VTIMEZONE:America/Los_Angeles
DTSTART:20260602T003000Z
DTEND:20260602T040000Z
UID:516665
SUMMARY:Annual Celebration
LOCATION:Art Love Salon, 110 Union St, Seattle, WA, 98101
DESCRIPTION:Annual Celebration\n\n06/01/26 05:30 PM PST\n - 06/01/26 09:00 PM PST\Description:\nJoin us for an evening of fun, laughter, and announcement of our 2026 Grant Recipients. \n\nWe'll also have plenty of drinks, delicious food, and time to socialize throughout the evening at Art Love Salon.\n\nPlus one! Consider inviting another woman who wants to learn more about Impact 100 Seattle and enjoy the festivities.\n\Location:\nArt Love Salon\n110 Union St\nSeattle, WA 98101
X-ALT-DESC;FMTTYPE=text/html:Annual Celebration<br /><br />06/01/26 05:30 PM PST - 06/01/26 09:00 PM PST<br />Description:<br /><p data-end="457" data-start="337"><span style="line-height:1"><span style="font-size:14px">Join us for an evening of fun, laughter, and announcement of our 2026&nbsp;Grant Recipients.&nbsp;</span></span><br />
<br />
We'll also have plenty of drinks,&nbsp;delicious food, and time to socialize throughout the evening at <a href="https://artlovesalon.org/">Art Love Salon</a>.<br />
<br />
<strong>Plus one!&nbsp;</strong>Consider inviting another woman who wants to learn more about Impact 100 Seattle&nbsp;and enjoy the festivities.</p>
<br />Location:<br />Art Love Salon<br />110 Union St<br />Seattle, WA 98101
PRIORITY:3
TRANSP:TRANSPARENT
BEGIN:VALARM
TRIGGER:-PT5M
ACTION:DISPLAY
DESCRIPTION:Reminder
END:VALARM
END:VEVENT
END:VCALENDAR
